BEGIN:VCALENDAR
VERSION:2.0
PRODID:-//NetAuktion//NONSGML NetAuktion//SV
METHOD:PUBLISH
BEGIN:VEVENT
UID:20260421T104620-1436600119-netauktion.se
DTSTAMP:20260421T104620
DTSTART:20180119T023200
DTEND:20180119T023500
SUMMARY:Netauktion objekt 3027-264 Auktionspåminnelse
DESCRIPTION:Länk till objektet du var intresserad av: https://staging.netauktion.se/auktion/produkt/underklader-laperla-strl-l
END:VEVENT
END:VCALENDAR
