BEGIN:VCALENDAR
VERSION:2.0
PRODID:-//NetAuktion//NONSGML NetAuktion//SV
METHOD:PUBLISH
BEGIN:VEVENT
UID:20260421T104600-463805052-netauktion.se
DTSTAMP:20260421T104600
DTSTART:20180131T040600
DTEND:20180131T040900
SUMMARY:Netauktion objekt 3358-028 Auktionspåminnelse
DESCRIPTION:Länk till objektet du var intresserad av: https://staging.netauktion.se/auktion/produkt/vagn-med-plastkarl-2
END:VEVENT
END:VCALENDAR
