BEGIN:VCALENDAR
VERSION:2.0
PRODID:-//NetAuktion//NONSGML NetAuktion//SV
METHOD:PUBLISH
BEGIN:VEVENT
UID:20260421T104617-259852146-netauktion.se
DTSTAMP:20260421T104617
DTSTART:20180131T041700
DTEND:20180131T042000
SUMMARY:Netauktion objekt 3358-082 Auktionspåminnelse
DESCRIPTION:Länk till objektet du var intresserad av: https://staging.netauktion.se/auktion/produkt/stickvagnar-14st
END:VEVENT
END:VCALENDAR
