BEGIN:VCALENDAR
VERSION:2.0
PRODID:-//NetAuktion//NONSGML NetAuktion//SV
METHOD:PUBLISH
BEGIN:VEVENT
UID:20260421T103237-977027996-netauktion.se
DTSTAMP:20260421T103237
DTSTART:20180131T040100
DTEND:20180131T040400
SUMMARY:Netauktion objekt 3356-059 Auktionspåminnelse
DESCRIPTION:Länk till objektet du var intresserad av: https://staging.netauktion.se/auktion/produkt/rostfri-vagn-8
END:VEVENT
END:VCALENDAR
