BEGIN:VCALENDAR
VERSION:2.0
PRODID:-//NetAuktion//NONSGML NetAuktion//SV
METHOD:PUBLISH
BEGIN:VEVENT
UID:20260421T103004-985219639-netauktion.se
DTSTAMP:20260421T103004
DTSTART:20180330T032300
DTEND:20180330T032600
SUMMARY:Netauktion objekt 2778-091 Auktionspåminnelse
DESCRIPTION:Länk till objektet du var intresserad av: https://staging.netauktion.se/auktion/produkt/jacka-belmondo-casual-stl-m
END:VEVENT
END:VCALENDAR
