BEGIN:VCALENDAR
VERSION:2.0
PRODID:-//NetAuktion//NONSGML NetAuktion//SV
METHOD:PUBLISH
BEGIN:VEVENT
UID:20260421T104617-1541687963-netauktion.se
DTSTAMP:20260421T104617
DTSTART:20180330T031600
DTEND:20180330T031900
SUMMARY:Netauktion objekt 3372-014 Auktionspåminnelse
DESCRIPTION:Länk till objektet du var intresserad av: https://staging.netauktion.se/auktion/produkt/datorpaket-2-13
END:VEVENT
END:VCALENDAR
