BEGIN:VCALENDAR
VERSION:2.0
PRODID:-//NetAuktion//NONSGML NetAuktion//SV
METHOD:PUBLISH
BEGIN:VEVENT
UID:20260421T104603-294549196-netauktion.se
DTSTAMP:20260421T104603
DTSTART:20180330T033300
DTEND:20180330T033600
SUMMARY:Netauktion objekt 3337-011 Auktionspåminnelse
DESCRIPTION:Länk till objektet du var intresserad av: https://staging.netauktion.se/auktion/produkt/kap-geringsag-dewalt-dw718xps
END:VEVENT
END:VCALENDAR
