BEGIN:VCALENDAR
VERSION:2.0
PRODID:-//NetAuktion//NONSGML NetAuktion//SV
METHOD:PUBLISH
BEGIN:VEVENT
UID:20260421T104432-2010609910-netauktion.se
DTSTAMP:20260421T104432
DTSTART:20230119T200000
DTEND:20230119T200300
SUMMARY:Netauktion objekt 3173-024 Auktionspåminnelse
DESCRIPTION:Länk till objektet du var intresserad av: https://staging.netauktion.se/auktion/produkt/automatisk-pastakokare-eurochef-pl6
END:VEVENT
END:VCALENDAR
