BEGIN:VCALENDAR
VERSION:2.0
PRODID:-//NetAuktion//NONSGML NetAuktion//SV
METHOD:PUBLISH
BEGIN:VEVENT
UID:20260421T104607-2094383733-netauktion.se
DTSTAMP:20260421T104607
DTSTART:20230119T200000
DTEND:20230119T200300
SUMMARY:Netauktion objekt 3173-029 Auktionspåminnelse
DESCRIPTION:Länk till objektet du var intresserad av: https://staging.netauktion.se/auktion/produkt/gasolspis-med-4-brannare-samt-underbank
END:VEVENT
END:VCALENDAR
