BEGIN:VCALENDAR
VERSION:2.0
PRODID:-//NetAuktion//NONSGML NetAuktion//SV
METHOD:PUBLISH
BEGIN:VEVENT
UID:20260421T104623-211838095-netauktion.se
DTSTAMP:20260421T104623
DTSTART:20180228T031300
DTEND:20180228T031600
SUMMARY:Netauktion objekt 3417-014 Auktionspåminnelse
DESCRIPTION:Länk till objektet du var intresserad av: https://staging.netauktion.se/auktion/produkt/stimkittlar-electrolux
END:VEVENT
END:VCALENDAR
