BEGIN:VCALENDAR
VERSION:2.0
PRODID:-//NetAuktion//NONSGML NetAuktion//SV
METHOD:PUBLISH
BEGIN:VEVENT
UID:20260421T104631-1593730032-netauktion.se
DTSTAMP:20260421T104631
DTSTART:20180228T040000
DTEND:20180228T040300
SUMMARY:Netauktion objekt 3137-067 Auktionspåminnelse
DESCRIPTION:Länk till objektet du var intresserad av: https://staging.netauktion.se/auktion/produkt/mynt-och-sedelraknare
END:VEVENT
END:VCALENDAR
