BEGIN:VCALENDAR
VERSION:2.0
PRODID:-//NetAuktion//NONSGML NetAuktion//SV
METHOD:PUBLISH
BEGIN:VEVENT
UID:20260421T104635-539927570-netauktion.se
DTSTAMP:20260421T104635
DTSTART:20180917T023300
DTEND:20180917T023600
SUMMARY:Netauktion objekt 3365-126 Auktionspåminnelse
DESCRIPTION:Länk till objektet du var intresserad av: https://staging.netauktion.se/auktion/produkt/armbandsur-jj-john-jernsparv-284500
END:VEVENT
END:VCALENDAR
