BEGIN:VCALENDAR
VERSION:2.0
PRODID:-//NetAuktion//NONSGML NetAuktion//SV
METHOD:PUBLISH
BEGIN:VEVENT
UID:20260421T104445-682763534-netauktion.se
DTSTAMP:20260421T104445
DTSTART:20180917T023000
DTEND:20180917T023300
SUMMARY:Netauktion objekt 3365-129 Auktionspåminnelse
DESCRIPTION:Länk till objektet du var intresserad av: https://staging.netauktion.se/auktion/produkt/armbandsur-jj-john-jernsparv-287500
END:VEVENT
END:VCALENDAR
