BEGIN:VCALENDAR
VERSION:2.0
PRODID:-//NetAuktion//NONSGML NetAuktion//SV
METHOD:PUBLISH
BEGIN:VEVENT
UID:20260421T102852-2037184457-netauktion.se
DTSTAMP:20260421T102852
DTSTART:20181228T040200
DTEND:20181228T040500
SUMMARY:Netauktion objekt 3365-165 Auktionspåminnelse
DESCRIPTION:Länk till objektet du var intresserad av: https://staging.netauktion.se/auktion/produkt/armbandsur-jj-john-jernsparv-323500
END:VEVENT
END:VCALENDAR
