BEGIN:VCALENDAR
VERSION:2.0
PRODID:-//NetAuktion//NONSGML NetAuktion//SV
METHOD:PUBLISH
BEGIN:VEVENT
UID:20260421T104427-1305239887-netauktion.se
DTSTAMP:20260421T104427
DTSTART:20181228T040300
DTEND:20181228T040600
SUMMARY:Netauktion objekt 3365-166 Auktionspåminnelse
DESCRIPTION:Länk till objektet du var intresserad av: https://staging.netauktion.se/auktion/produkt/armbandsur-jj-john-jernsparv-324500
END:VEVENT
END:VCALENDAR
