BEGIN:VCALENDAR
VERSION:2.0
PRODID:-//NetAuktion//NONSGML NetAuktion//SV
METHOD:PUBLISH
BEGIN:VEVENT
UID:20260421T104559-1905672322-netauktion.se
DTSTAMP:20260421T104559
DTSTART:20181228T040700
DTEND:20181228T041000
SUMMARY:Netauktion objekt 3365-171 Auktionspåminnelse
DESCRIPTION:Länk till objektet du var intresserad av: https://staging.netauktion.se/auktion/produkt/armbandsur-jj-john-jernsparv-329500
END:VEVENT
END:VCALENDAR
