BEGIN:VCALENDAR
VERSION:2.0
PRODID:-//NetAuktion//NONSGML NetAuktion//SV
METHOD:PUBLISH
BEGIN:VEVENT
UID:20260421T103137-292263409-netauktion.se
DTSTAMP:20260421T103137
DTSTART:20180917T023100
DTEND:20180917T023400
SUMMARY:Netauktion objekt 3365-196 Auktionspåminnelse
DESCRIPTION:Länk till objektet du var intresserad av: https://staging.netauktion.se/auktion/produkt/armbandsur-jj-john-jernsparv-385500
END:VEVENT
END:VCALENDAR
