BEGIN:VCALENDAR
VERSION:2.0
PRODID:-//NetAuktion//NONSGML NetAuktion//SV
METHOD:PUBLISH
BEGIN:VEVENT
UID:20260421T104537-404839151-netauktion.se
DTSTAMP:20260421T104537
DTSTART:20180330T034200
DTEND:20180330T034500
SUMMARY:Netauktion objekt 2842-011 Auktionspåminnelse
DESCRIPTION:Länk till objektet du var intresserad av: https://staging.netauktion.se/auktion/produkt/lm-falgar-breyton-10jx19h2
END:VEVENT
END:VCALENDAR
