BEGIN:VCALENDAR
VERSION:2.0
PRODID:-//NetAuktion//NONSGML NetAuktion//SV
METHOD:PUBLISH
BEGIN:VEVENT
UID:20260421T104451-28323750-netauktion.se
DTSTAMP:20260421T104451
DTSTART:20180330T025100
DTEND:20180330T025400
SUMMARY:Netauktion objekt 3337-018 Auktionspåminnelse
DESCRIPTION:Länk till objektet du var intresserad av: https://staging.netauktion.se/auktion/produkt/hitachi-cirkelsag-c-7bu2
END:VEVENT
END:VCALENDAR
