BEGIN:VCALENDAR
VERSION:2.0
PRODID:-//NetAuktion//NONSGML NetAuktion//SV
METHOD:PUBLISH
BEGIN:VEVENT
UID:20260421T104620-1361305210-netauktion.se
DTSTAMP:20260421T104620
DTSTART:20180330T025600
DTEND:20180330T025900
SUMMARY:Netauktion objekt 3337-025 Auktionspåminnelse
DESCRIPTION:Länk till objektet du var intresserad av: https://staging.netauktion.se/auktion/produkt/aldre-skolplanscher-blomvaxternas-byggnad-3
END:VEVENT
END:VCALENDAR
