BEGIN:VCALENDAR
VERSION:2.0
PRODID:-//NetAuktion//NONSGML NetAuktion//SV
METHOD:PUBLISH
BEGIN:VEVENT
UID:20260421T104616-1237587050-netauktion.se
DTSTAMP:20260421T104616
DTSTART:20180330T025900
DTEND:20180330T030200
SUMMARY:Netauktion objekt 3337-027 Auktionspåminnelse
DESCRIPTION:Länk till objektet du var intresserad av: https://staging.netauktion.se/auktion/produkt/av-skap-4
END:VEVENT
END:VCALENDAR
