BEGIN:VCALENDAR
VERSION:2.0
PRODID:-//NetAuktion//NONSGML NetAuktion//SV
METHOD:PUBLISH
BEGIN:VEVENT
UID:20260421T104531-1022466678-netauktion.se
DTSTAMP:20260421T104531
DTSTART:20180330T030500
DTEND:20180330T030800
SUMMARY:Netauktion objekt 3337-034 Auktionspåminnelse
DESCRIPTION:Länk till objektet du var intresserad av: https://staging.netauktion.se/auktion/produkt/paket-hss-borr-1-10mm-3
END:VEVENT
END:VCALENDAR
