BEGIN:VCALENDAR
VERSION:2.0
PRODID:-//NetAuktion//NONSGML NetAuktion//SV
METHOD:PUBLISH
BEGIN:VEVENT
UID:20260421T104606-1168456593-netauktion.se
DTSTAMP:20260421T104606
DTSTART:20180330T030700
DTEND:20180330T031000
SUMMARY:Netauktion objekt 3337-036 Auktionspåminnelse
DESCRIPTION:Länk till objektet du var intresserad av: https://staging.netauktion.se/auktion/produkt/bord-i-tra-och-metall-3
END:VEVENT
END:VCALENDAR
