BEGIN:VCALENDAR
VERSION:2.0
PRODID:-//NetAuktion//NONSGML NetAuktion//SV
METHOD:PUBLISH
BEGIN:VEVENT
UID:20260421T104443-1420411058-netauktion.se
DTSTAMP:20260421T104443
DTSTART:20180330T031000
DTEND:20180330T031300
SUMMARY:Netauktion objekt 3337-041 Auktionspåminnelse
DESCRIPTION:Länk till objektet du var intresserad av: https://staging.netauktion.se/auktion/produkt/bertoni-solglasogon-ord-pris-599-9
END:VEVENT
END:VCALENDAR
