BEGIN:VCALENDAR
VERSION:2.0
PRODID:-//NetAuktion//NONSGML NetAuktion//SV
METHOD:PUBLISH
BEGIN:VEVENT
UID:20260421T104616-1619384479-netauktion.se
DTSTAMP:20260421T104616
DTSTART:20180329T024500
DTEND:20180329T024800
SUMMARY:Netauktion objekt 3433-014 Auktionspåminnelse
DESCRIPTION:Länk till objektet du var intresserad av: https://staging.netauktion.se/auktion/produkt/exponeringsvagnar-4st-3
END:VEVENT
END:VCALENDAR
