BEGIN:VCALENDAR
VERSION:2.0
PRODID:-//NetAuktion//NONSGML NetAuktion//SV
METHOD:PUBLISH
BEGIN:VEVENT
UID:20260421T102935-1205548414-netauktion.se
DTSTAMP:20260421T102935
DTSTART:20180330T020100
DTEND:20180330T020400
SUMMARY:Netauktion objekt 3440-002 Auktionspåminnelse
DESCRIPTION:Länk till objektet du var intresserad av: https://staging.netauktion.se/auktion/produkt/frisorstol-nr-2
END:VEVENT
END:VCALENDAR
