BEGIN:VCALENDAR
VERSION:2.0
PRODID:-//NetAuktion//NONSGML NetAuktion//SV
METHOD:PUBLISH
BEGIN:VEVENT
UID:20260421T103128-1152771230-netauktion.se
DTSTAMP:20260421T103128
DTSTART:20180330T042300
DTEND:20180330T042600
SUMMARY:Netauktion objekt 3445-009 Auktionspåminnelse
DESCRIPTION:Länk till objektet du var intresserad av: https://staging.netauktion.se/auktion/produkt/kedjesag-hacksax-grastrimmer-hitachi-4
END:VEVENT
END:VCALENDAR
