BEGIN:VCALENDAR
VERSION:2.0
PRODID:-//NetAuktion//NONSGML NetAuktion//SV
METHOD:PUBLISH
BEGIN:VEVENT
UID:20260421T104533-427115401-netauktion.se
DTSTAMP:20260421T104533
DTSTART:20230119T200000
DTEND:20230119T200300
SUMMARY:Netauktion objekt 3249-008 Auktionspåminnelse
DESCRIPTION:Länk till objektet du var intresserad av: https://staging.netauktion.se/auktion/produkt/espressomaskin-wega
END:VEVENT
END:VCALENDAR
