BEGIN:VCALENDAR
VERSION:2.0
PRODID:-//NetAuktion//NONSGML NetAuktion//SV
METHOD:PUBLISH
BEGIN:VEVENT
UID:20260421T104530-868778721-netauktion.se
DTSTAMP:20260421T104530
DTSTART:20180917T011900
DTEND:20180917T012200
SUMMARY:Netauktion objekt 3281-094 Auktionspåminnelse
DESCRIPTION:Länk till objektet du var intresserad av: https://staging.netauktion.se/auktion/produkt/20st-byxor-bla-dolce-gabbana
END:VEVENT
END:VCALENDAR
