BEGIN:VCALENDAR
VERSION:2.0
PRODID:-//NetAuktion//NONSGML NetAuktion//SV
METHOD:PUBLISH
BEGIN:VEVENT
UID:20260421T104600-1121866133-netauktion.se
DTSTAMP:20260421T104600
DTSTART:20180917T011400
DTEND:20180917T011700
SUMMARY:Netauktion objekt 3281-096 Auktionspåminnelse
DESCRIPTION:Länk till objektet du var intresserad av: https://staging.netauktion.se/auktion/produkt/20st-byxor-bla-dolce-gabbana-9
END:VEVENT
END:VCALENDAR
