BEGIN:VCALENDAR
VERSION:2.0
PRODID:-//NetAuktion//NONSGML NetAuktion//SV
METHOD:PUBLISH
BEGIN:VEVENT
UID:20260421T103129-710393846-netauktion.se
DTSTAMP:20260421T103129
DTSTART:20180917T010300
DTEND:20180917T010600
SUMMARY:Netauktion objekt 3281-098 Auktionspåminnelse
DESCRIPTION:Länk till objektet du var intresserad av: https://staging.netauktion.se/auktion/produkt/20st-byxor-bla-dolce-gabbana-2
END:VEVENT
END:VCALENDAR
