BEGIN:VCALENDAR
VERSION:2.0
PRODID:-//NetAuktion//NONSGML NetAuktion//SV
METHOD:PUBLISH
BEGIN:VEVENT
UID:20260421T104537-1165281070-netauktion.se
DTSTAMP:20260421T104537
DTSTART:20180917T012000
DTEND:20180917T012300
SUMMARY:Netauktion objekt 3281-100 Auktionspåminnelse
DESCRIPTION:Länk till objektet du var intresserad av: https://staging.netauktion.se/auktion/produkt/20st-byxor-bla-see-by-chloe
END:VEVENT
END:VCALENDAR
