BEGIN:VCALENDAR
VERSION:2.0
PRODID:-//NetAuktion//NONSGML NetAuktion//SV
METHOD:PUBLISH
BEGIN:VEVENT
UID:20260421T103136-1782368654-netauktion.se
DTSTAMP:20260421T103136
DTSTART:20180917T010100
DTEND:20180917T010400
SUMMARY:Netauktion objekt 3281-103 Auktionspåminnelse
DESCRIPTION:Länk till objektet du var intresserad av: https://staging.netauktion.se/auktion/produkt/20st-byxor-bla-dolce-gabbana-6
END:VEVENT
END:VCALENDAR
