BEGIN:VCALENDAR
VERSION:2.0
PRODID:-//NetAuktion//NONSGML NetAuktion//SV
METHOD:PUBLISH
BEGIN:VEVENT
UID:20260421T104620-1689746692-netauktion.se
DTSTAMP:20260421T104620
DTSTART:20180917T010200
DTEND:20180917T010500
SUMMARY:Netauktion objekt 3281-112 Auktionspåminnelse
DESCRIPTION:Länk till objektet du var intresserad av: https://staging.netauktion.se/auktion/produkt/ca-35st-klader-accessoarer
END:VEVENT
END:VCALENDAR
