BEGIN:VCALENDAR
VERSION:2.0
PRODID:-//NetAuktion//NONSGML NetAuktion//SV
METHOD:PUBLISH
BEGIN:VEVENT
UID:20260421T104324-1441370056-netauktion.se
DTSTAMP:20260421T104324
DTSTART:20180629T024800
DTEND:20180629T025100
SUMMARY:Netauktion objekt 3447-103 Auktionspåminnelse
DESCRIPTION:Länk till objektet du var intresserad av: https://staging.netauktion.se/auktion/produkt/grasklippare-hacksax-grastrimmer-kedjesag-9
END:VEVENT
END:VCALENDAR
