BEGIN:VCALENDAR
VERSION:2.0
PRODID:-//NetAuktion//NONSGML NetAuktion//SV
METHOD:PUBLISH
BEGIN:VEVENT
UID:20260421T104628-1122015297-netauktion.se
DTSTAMP:20260421T104628
DTSTART:20180629T024300
DTEND:20180629T024600
SUMMARY:Netauktion objekt 3447-134 Auktionspåminnelse
DESCRIPTION:Länk till objektet du var intresserad av: https://staging.netauktion.se/auktion/produkt/hacksax-grastrimmer-kedjesag-hitachi-5
END:VEVENT
END:VCALENDAR
