BEGIN:VCALENDAR
VERSION:2.0
PRODID:-//NetAuktion//NONSGML NetAuktion//SV
METHOD:PUBLISH
BEGIN:VEVENT
UID:20260421T104700-130155302-netauktion.se
DTSTAMP:20260421T104700
DTSTART:20180629T024400
DTEND:20180629T024700
SUMMARY:Netauktion objekt 3447-135 Auktionspåminnelse
DESCRIPTION:Länk till objektet du var intresserad av: https://staging.netauktion.se/auktion/produkt/hacksax-grastrimmer-kedjesag-hitachi-6
END:VEVENT
END:VCALENDAR
