BEGIN:VCALENDAR
VERSION:2.0
PRODID:-//NetAuktion//NONSGML NetAuktion//SV
METHOD:PUBLISH
BEGIN:VEVENT
UID:20260421T104633-387511732-netauktion.se
DTSTAMP:20260421T104633
DTSTART:20180629T021400
DTEND:20180629T021700
SUMMARY:Netauktion objekt 3471-047 Auktionspåminnelse
DESCRIPTION:Länk till objektet du var intresserad av: https://staging.netauktion.se/auktion/produkt/nya-skalar-vento-fr-anton-black-ca-96st-2
END:VEVENT
END:VCALENDAR
