BEGIN:VCALENDAR
VERSION:2.0
PRODID:-//NetAuktion//NONSGML NetAuktion//SV
METHOD:PUBLISH
BEGIN:VEVENT
UID:20260421T103135-1564204743-netauktion.se
DTSTAMP:20260421T103135
DTSTART:20180629T021500
DTEND:20180629T021800
SUMMARY:Netauktion objekt 3471-072 Auktionspåminnelse
DESCRIPTION:Länk till objektet du var intresserad av: https://staging.netauktion.se/auktion/produkt/nya-dricksglas-fran-pasabahce-144st-2
END:VEVENT
END:VCALENDAR
