BEGIN:VCALENDAR
VERSION:2.0
PRODID:-//NetAuktion//NONSGML NetAuktion//SV
METHOD:PUBLISH
BEGIN:VEVENT
UID:20260421T104450-1430631269-netauktion.se
DTSTAMP:20260421T104450
DTSTART:20180629T020300
DTEND:20180629T020600
SUMMARY:Netauktion objekt 3471-081 Auktionspåminnelse
DESCRIPTION:Länk till objektet du var intresserad av: https://staging.netauktion.se/auktion/produkt/nya-cafe-latteglas-fran-pasabahce-96st-4-2-2
END:VEVENT
END:VCALENDAR
