BEGIN:VCALENDAR
VERSION:2.0
PRODID:-//NetAuktion//NONSGML NetAuktion//SV
METHOD:PUBLISH
BEGIN:VEVENT
UID:20260421T104309-1032822243-netauktion.se
DTSTAMP:20260421T104309
DTSTART:20091127T021300
DTEND:20091127T021600
SUMMARY:Netauktion objekt 0322-081 Auktionspåminnelse
DESCRIPTION:Länk till objektet du var intresserad av: https://staging.netauktion.se/auktion/produkt/2door-kulortvatt-48kg-3
END:VEVENT
END:VCALENDAR
