BEGIN:VCALENDAR
VERSION:2.0
PRODID:-//NetAuktion//NONSGML NetAuktion//SV
METHOD:PUBLISH
BEGIN:VEVENT
UID:20260421T104308-1110124012-netauktion.se
DTSTAMP:20260421T104308
DTSTART:20091127T021400
DTEND:20091127T021700
SUMMARY:Netauktion objekt 0322-082 Auktionspåminnelse
DESCRIPTION:Länk till objektet du var intresserad av: https://staging.netauktion.se/auktion/produkt/2door-kulortvatt-48kg-4
END:VEVENT
END:VCALENDAR
