BEGIN:VCALENDAR
VERSION:2.0
PRODID:-//NetAuktion//NONSGML NetAuktion//SV
METHOD:PUBLISH
BEGIN:VEVENT
UID:20260421T104559-1430817298-netauktion.se
DTSTAMP:20260421T104559
DTSTART:20180530T014200
DTEND:20180530T014500
SUMMARY:Netauktion objekt 3492-002 Auktionspåminnelse
DESCRIPTION:Länk till objektet du var intresserad av: https://staging.netauktion.se/auktion/produkt/maskinverktyg-milwaukee-6
END:VEVENT
END:VCALENDAR
