BEGIN:VCALENDAR
VERSION:2.0
PRODID:-//NetAuktion//NONSGML NetAuktion//SV
METHOD:PUBLISH
BEGIN:VEVENT
UID:20260421T103033-1365501474-netauktion.se
DTSTAMP:20260421T103033
DTSTART:20180530T013800
DTEND:20180530T014100
SUMMARY:Netauktion objekt 3492-009 Auktionspåminnelse
DESCRIPTION:Länk till objektet du var intresserad av: https://staging.netauktion.se/auktion/produkt/protryckningspump-rems
END:VEVENT
END:VCALENDAR
