BEGIN:VCALENDAR
VERSION:2.0
PRODID:-//NetAuktion//NONSGML NetAuktion//SV
METHOD:PUBLISH
BEGIN:VEVENT
UID:20260421T104529-1260259473-netauktion.se
DTSTAMP:20260421T104529
DTSTART:20180530T013900
DTEND:20180530T014200
SUMMARY:Netauktion objekt 3492-010 Auktionspåminnelse
DESCRIPTION:Länk till objektet du var intresserad av: https://staging.netauktion.se/auktion/produkt/arbetsbank-pa-hjul-4
END:VEVENT
END:VCALENDAR
