BEGIN:VCALENDAR
VERSION:2.0
PRODID:-//NetAuktion//NONSGML NetAuktion//SV
METHOD:PUBLISH
BEGIN:VEVENT
UID:20260421T104537-383311142-netauktion.se
DTSTAMP:20260421T104537
DTSTART:20180530T014400
DTEND:20180530T014700
SUMMARY:Netauktion objekt 3492-015 Auktionspåminnelse
DESCRIPTION:Länk till objektet du var intresserad av: https://staging.netauktion.se/auktion/produkt/5st-rullstall
END:VEVENT
END:VCALENDAR
