BEGIN:VCALENDAR
VERSION:2.0
PRODID:-//NetAuktion//NONSGML NetAuktion//SV
METHOD:PUBLISH
BEGIN:VEVENT
UID:20260421T102953-394562593-netauktion.se
DTSTAMP:20260421T102953
DTSTART:20180530T015000
DTEND:20180530T015300
SUMMARY:Netauktion objekt 3492-020 Auktionspåminnelse
DESCRIPTION:Länk till objektet du var intresserad av: https://staging.netauktion.se/auktion/produkt/gangmaskin-ridgid-3
END:VEVENT
END:VCALENDAR
