BEGIN:VCALENDAR
VERSION:2.0
PRODID:-//NetAuktion//NONSGML NetAuktion//SV
METHOD:PUBLISH
BEGIN:VEVENT
UID:20260421T104438-1406574897-netauktion.se
DTSTAMP:20260421T104438
DTSTART:20180530T015800
DTEND:20180530T020100
SUMMARY:Netauktion objekt 3492-029 Auktionspåminnelse
DESCRIPTION:Länk till objektet du var intresserad av: https://staging.netauktion.se/auktion/produkt/vagn-39
END:VEVENT
END:VCALENDAR
