BEGIN:VCALENDAR
VERSION:2.0
PRODID:-//NetAuktion//NONSGML NetAuktion//SV
METHOD:PUBLISH
BEGIN:VEVENT
UID:20260421T104533-1990763448-netauktion.se
DTSTAMP:20260421T104533
DTSTART:20180530T020100
DTEND:20180530T020400
SUMMARY:Netauktion objekt 3492-032 Auktionspåminnelse
DESCRIPTION:Länk till objektet du var intresserad av: https://staging.netauktion.se/auktion/produkt/gangskarningsmaskin-tuawei
END:VEVENT
END:VCALENDAR
