BEGIN:VCALENDAR
VERSION:2.0
PRODID:-//NetAuktion//NONSGML NetAuktion//SV
METHOD:PUBLISH
BEGIN:VEVENT
UID:20260421T104529-275984995-netauktion.se
DTSTAMP:20260421T104529
DTSTART:20180629T020800
DTEND:20180629T021100
SUMMARY:Netauktion objekt 3471-088 Auktionspåminnelse
DESCRIPTION:Länk till objektet du var intresserad av: https://staging.netauktion.se/auktion/produkt/nya-glas-olika-sorter-ca-96-delar-3
END:VEVENT
END:VCALENDAR
